BEGIN:VCALENDAR
VERSION:2.0
PRODID:-//ectacom.com//NONSGML kigkonsult.se iCalcreator 2.30.10//
CALSCALE:GREGORIAN
METHOD:PUBLISH
UID:daeb7255-109c-4341-84fe-5b3824c1f7cd
X-WR-CALNAME:iCagenda
X-WR-CALDESC:Event Management Extension for Joomla!
X-WR-RELCALID:3E26604A-50F4-4449-8B3E-E4F4932D05B5
X-WR-TIMEZONE:Europe/Berlin
BEGIN:VTIMEZONE
TZID:Europe/Berlin
BEGIN:STANDARD
TZNAME:CET
DTSTART:20251026T030000
TZOFFSETFROM:+0200
TZOFFSETTO:+0100
RDATE:20261025T030000
END:STANDARD
BEGIN:DAYLIGHT
TZNAME:CEST
DTSTART:20260329T020000
TZOFFSETFROM:+0100
TZOFFSETTO:+0200
RDATE:20270328T020000
END:DAYLIGHT
END:VTIMEZONE
BEGIN:VEVENT
UID:8135004d-3d7a-4ed2-b00e-bf01146c8a07
DTSTAMP:20260421T090326Z
CATEGORIES:Webinar
CLASS:PUBLIC
DESCRIPTION;ALTREP="CID:<FFFF__=0ABBE548DFE235B58f9e8a93d@coffeebean.com>":
 Full visibility of your entire OT/IoT ecosystem\, including wireless netwo
 rks\, starts with knowing what assets you have across the industrial envir
 onment. In this webinar\, we’ll break down how to achieve complete\, real-
 time visibility across your OT/IoT environments so you can: &nbsp\;\n\n‍Cr
 eate a holistic\, automated inventory&nbsp\;of your operational landscape\
 , based on the broadest set of sensors\, to build an intelligence-driven v
 iew of all wired and wireless OT\, IoT and IT assets.&nbsp\;‍\nUncover bli
 nd spots and fill in missing asset details&nbsp\;using deep AI-driven visi
 bility across all OT/IoT assets\, network communications\, and device beha
 viors.&nbsp\;‍\nUse AI purpose-built for OT environments&nbsp\;to establis
 h the operational foundation for uptime\, safety\, and resilience.\n\nYou 
 will leave with a better understanding of how to gain the certainty and vi
 sibility you need to manage your entire OT/IoT environment for measurable 
 resilience.\n\n\n&nbsp\;Register here\n\n\n&nbsp\;
DTSTART:20260402T093400Z
DTEND:20260402T150000Z
GEO:00;0
LOCATION:online
ORGANIZER:
SEQUENCE:1
SUMMARY:Nozomi Networks | Unseen\, Undone: How to Finetune Asset Inventory 
 Management for OT/IoT Environments
TRANSP:OPAQUE
URL:https://ectacom.com/de/component/icagenda/513-nozomi-networks-unseen-un
 done-how-to-finetune-asset-inventory-management-for-ot-iot-environments.ht
 ml
END:VEVENT
END:VCALENDAR
