BEGIN:VCALENDAR
VERSION:2.0
PRODID:-//ectacom.com//NONSGML kigkonsult.se iCalcreator 2.30.10//
CALSCALE:GREGORIAN
METHOD:PUBLISH
UID:5cbc88ff-d006-48cb-abf5-2c0439da9354
X-WR-CALNAME:iCagenda
X-WR-CALDESC:Event Management Extension for Joomla!
X-WR-RELCALID:3E26604A-50F4-4449-8B3E-E4F4932D05B5
X-WR-TIMEZONE:Europe/Berlin
BEGIN:VTIMEZONE
TZID:Europe/Berlin
BEGIN:STANDARD
TZNAME:CET
DTSTART:20181028T030000
TZOFFSETFROM:+0200
TZOFFSETTO:+0100
RDATE:20191027T030000
END:STANDARD
BEGIN:DAYLIGHT
TZNAME:CEST
DTSTART:20180325T020000
TZOFFSETFROM:+0100
TZOFFSETTO:+0200
RDATE:20190331T020000
RDATE:20200329T020000
END:DAYLIGHT
END:VTIMEZONE
BEGIN:VEVENT
UID:4ca4a54b-ca72-40bc-b524-8552b1033c56
DTSTAMP:20260419T145635Z
CATEGORIES:Webinar
CLASS:PUBLIC
DESCRIPTION;ALTREP="CID:<FFFF__=0ABBE548DFE235B58f9e8a93d@coffeebean.com>":
 Make one of your New Year's resolutions to join this exclusive\, channel o
 nly webinar\, for a technical overview of our upcoming product releases: C
 ofense Triage™ 2.0 and Cofense Vision™.  During this webinar\, we will tak
 e a technical deep dive into:\n\nCofense Triage™ 2.0 Updates\nBenefits of 
 Cofense Vision™\n\nDon't miss this&nbsp\;opportunity to get the latest ins
 ight into Cofense's product roadmap to help&nbsp\;take your Cofense busine
 ss to the next level in 2019.\nWe hope you can join! Speaker: Tyler Bonyma
 n - Senior Sales Engineer\, Channel/MSSP\nLanguage: English
DTSTART:20190110T160000Z
DTEND:20190110T164500Z
GEO:00;0
LOCATION:Webinar
ORGANIZER:
SEQUENCE:1
SUMMARY:INTRODUCING COFENSE TRIAGE™ 2.0 AND COFENSE VISION™
TRANSP:OPAQUE
URL:https://ectacom.com/de/component/icagenda/52-introducing-cofense-triage
 -2-0-and-cofense-vision/2019-01-10-17-00.html
END:VEVENT
END:VCALENDAR
