BEGIN:VCALENDAR
VERSION:2.0
PRODID:-//ectacom.com//NONSGML kigkonsult.se iCalcreator 2.30.10//
CALSCALE:GREGORIAN
METHOD:PUBLISH
UID:8685bd03-52f5-4a1e-858e-5edb933add2c
X-WR-CALNAME:iCagenda
X-WR-CALDESC:Event Management Extension for Joomla!
X-WR-RELCALID:3E26604A-50F4-4449-8B3E-E4F4932D05B5
X-WR-TIMEZONE:Europe/Berlin
BEGIN:VTIMEZONE
TZID:Europe/Berlin
BEGIN:STANDARD
TZNAME:CET
DTSTART:20181028T030000
TZOFFSETFROM:+0200
TZOFFSETTO:+0100
RDATE:20191027T030000
END:STANDARD
BEGIN:DAYLIGHT
TZNAME:CEST
DTSTART:20180325T020000
TZOFFSETFROM:+0100
TZOFFSETTO:+0200
RDATE:20190331T020000
RDATE:20200329T020000
END:DAYLIGHT
END:VTIMEZONE
BEGIN:VEVENT
UID:74291801-4968-46a5-9036-e92f684d5789
DTSTAMP:20260421T094314Z
CATEGORIES:Workshop
CLASS:PUBLIC
DESCRIPTION;ALTREP="CID:<FFFF__=0ABBE548DFE235B58f9e8a93d@coffeebean.com>":
 \n\n\n\nDatum\n\n\nZEIT\n\n\nAccessData Themenblöcke\n\n\n\n\n21.01.19\n\n
 \n12:00&nbsp\;&nbsp\;&nbsp\;&nbsp\; -&nbsp\;&nbsp\;&nbsp\;&nbsp\; 18:00&nb
 sp\;&nbsp\;&nbsp\;&nbsp\;\n\n\nFTK / AD Enterprise / E-Discovery I\n\nFTK\
 , AD Enterprise und eDiscovery Demonstration\nSchulung AD Enterprise Agent
  Push &amp\; Workflow\nEDiscovery Workflow\n\n\n\n\n\n22.01.19\n\n\n10:00&
 nbsp\;&nbsp\;&nbsp\;&nbsp\; -&nbsp\;&nbsp\;&nbsp\;&nbsp\; 18:00&nbsp\;&nbs
 p\;&nbsp\;\n\n\nE-Discovery II / Quin-C I\n\neDiscovery Collectors und Leg
 al Review\nQuin-C Demonstration und Workflow\n\n\n\n\n\n23.01.19\n\n\n10:0
 0&nbsp\; &nbsp\;&nbsp\; -&nbsp\;&nbsp\;&nbsp\;&nbsp\; 18:00&nbsp\;&nbsp\;&
 nbsp\;\n\n\nQuin-CII / AD LAB\n\nAD LAB Demonstration und Technical Specif
 ications\n\n\n\n\n\n\nDownload: Agenda.pdf\n\nKosten:\nDie 3-tägige Schulu
 ng hat einen Wert von 4.500 EUR ist erstmalig kostenfrei!
DTSTART:20190121T110000Z
DTEND:20190123T170000Z
GEO:00;0
LOCATION:ectacom HQ in Hohenbrunn
ORGANIZER;CN=:vid@ectacom.com
SEQUENCE:1
SUMMARY:AccessData Technik-Workshop
TRANSP:OPAQUE
URL:https://ectacom.com/de/component/icagenda/53-accessdata-technik-worksho
 p.html
END:VEVENT
END:VCALENDAR
