BEGIN:VCALENDAR
VERSION:2.0
PRODID:-//ectacom.com//NONSGML kigkonsult.se iCalcreator 2.30.10//
CALSCALE:GREGORIAN
METHOD:PUBLISH
UID:f8d8ee76-2243-4c7f-bd4c-ee5d20ee26dc
X-WR-CALNAME:iCagenda
X-WR-CALDESC:Event Management Extension for Joomla!
X-WR-RELCALID:3E26604A-50F4-4449-8B3E-E4F4932D05B5
X-WR-TIMEZONE:Europe/Berlin
BEGIN:VTIMEZONE
TZID:Europe/Berlin
BEGIN:STANDARD
TZNAME:CET
DTSTART:20181028T030000
TZOFFSETFROM:+0200
TZOFFSETTO:+0100
RDATE:20191027T030000
END:STANDARD
BEGIN:DAYLIGHT
TZNAME:CEST
DTSTART:20180325T020000
TZOFFSETFROM:+0100
TZOFFSETTO:+0200
RDATE:20190331T020000
RDATE:20200329T020000
END:DAYLIGHT
END:VTIMEZONE
BEGIN:VEVENT
UID:cd63abc3-0a5b-4c4c-b51e-5af935cec487
DTSTAMP:20260419T145835Z
CATEGORIES:Webinar
CLASS:PUBLIC
DESCRIPTION;ALTREP="CID:<FFFF__=0ABBE548DFE235B58f9e8a93d@coffeebean.com>":
 Heading into 2019\, the volume—and sophistication—of email threats is grow
 ing. Phishing is virtually indistinguishable from legitimate brand communi
 cations\, spear phishing is hyper-personalised using publicly available da
 ta\, and insider attacks are surging due to the popularity of cloud email 
 services. But the biggest danger of all is when cybercriminals combine the
 se vectors in multi-phased attacks.&nbsp\;\nGain insight into how multi-ph
 ased attacks are designed and how your business can prevent being knocked 
 cold by one. We’ll use data and real-world examples to highlight the massi
 ve growth in Office 365 phishing\, and show you how cybercriminals use com
 promised accounts to launch spear phishing\, malware\, and insider attacks
 .\nGain insight into:\n• &nbsp\; &nbsp\;How cybercriminals execute coordin
 ated\, multi-phased attacks\n• &nbsp\; &nbsp\;Why Office 365 is the most t
 argeted entry point\n• &nbsp\; &nbsp\;How data breaches are fuel for targe
 ted email attacks\nSIGN UP HERE
DTSTART:20190131T100000Z
DTEND:20190131T110000Z
GEO:00;0
LOCATION:
ORGANIZER;CN=:marketing@ectacom.com
SEQUENCE:1
SUMMARY:Multi-phased attacks: the 1-2 punch that can knock your business co
 ld
TRANSP:OPAQUE
URL:https://ectacom.com/de/component/icagenda/57-multi-phased-attacks-the-1
 -2-punch-that-can-knock-your-business-cold/2019-01-31-11-00.html
END:VEVENT
END:VCALENDAR
