BEGIN:VCALENDAR
VERSION:2.0
PRODID:-//ectacom.com//NONSGML kigkonsult.se iCalcreator 2.30.10//
CALSCALE:GREGORIAN
METHOD:PUBLISH
UID:60d6c96e-054b-4bd1-80e1-d7c59514b247
X-WR-CALNAME:iCagenda
X-WR-CALDESC:Event Management Extension for Joomla!
X-WR-RELCALID:3E26604A-50F4-4449-8B3E-E4F4932D05B5
X-WR-TIMEZONE:Europe/Berlin
BEGIN:VTIMEZONE
TZID:Europe/Berlin
BEGIN:STANDARD
TZNAME:CET
DTSTART:20251026T030000
TZOFFSETFROM:+0200
TZOFFSETTO:+0100
RDATE:20261025T030000
END:STANDARD
BEGIN:DAYLIGHT
TZNAME:CEST
DTSTART:20250330T020000
TZOFFSETFROM:+0100
TZOFFSETTO:+0200
RDATE:20260329T020000
RDATE:20270328T020000
END:DAYLIGHT
END:VTIMEZONE
BEGIN:VEVENT
UID:ab5057ad-20af-488c-b2b6-43776b6d1e36
DTSTAMP:20260419T145625Z
CATEGORIES:Webinar
CLASS:PUBLIC
DESCRIPTION;ALTREP="CID:<FFFF__=0ABBE548DFE235B58f9e8a93d@coffeebean.com>":
 AI adoption is accelerating\, and so are the risks. Regulations like the E
 U AI Act\, NIST RMF\, and ISO 42001 are turning Responsible AI from a buzz
 word into a compliance requirement\, a technical discipline\, and a busine
 ss enabler.\nJoin Cognizant and BigID to explore how AI systems can enrich
  Responsible AI in practice. We’ll unpack how to:\n\nAutomate compliance a
 nd risk management through privacy-first workflows\nOperationalize Respons
 ible AI with governance\, testing\, and explainability\nTurn trust into a 
 business advantage: unlocking speed\, innovation\, and adoption\n\nYou’ll 
 also see how an integrated ecosystem of platforms like Salesforce\, Servic
 eNow\, and Atlan helps scale these practices across the enterprise.\nWheth
 er you’re a data leader\, compliance officer\, or AI strategist\, you’ll w
 alk away with a sharper playbook for building AI systems that are ethical\
 , reliable\, and enterprise-ready – without slowing innovation.\nSpeakers:
 \n\nDiptesh Singh\, Global Offerings Leader\, AI &amp\; Data\, Cognizant\n
 Dan Hansen\, Technical Advising Director\, BigID\n\n\n\n&nbsp\;Register he
 re\n\n\n&nbsp\;
DTSTART:20251119T150000Z
DTEND:20251119T160000Z
GEO:00;0
LOCATION:
ORGANIZER:
SEQUENCE:1
SUMMARY:BigID | Responsible AI in Action: Automating Privacy\, Compliance\,
  and Trust
TRANSP:OPAQUE
URL:https://ectacom.com/de/webinare/492-bigid-responsible-ai-in-action-auto
 mating-privacy-compliance-and-trust.html
END:VEVENT
END:VCALENDAR
