BEGIN:VCALENDAR
VERSION:2.0
PRODID:-//ectacom.com//NONSGML kigkonsult.se iCalcreator 2.30.10//
CALSCALE:GREGORIAN
METHOD:PUBLISH
UID:6d81588c-dec9-49f1-a680-2190cd612ed7
X-WR-CALNAME:iCagenda
X-WR-CALDESC:Event Management Extension for Joomla!
X-WR-RELCALID:3E26604A-50F4-4449-8B3E-E4F4932D05B5
X-WR-TIMEZONE:Europe/Berlin
BEGIN:VTIMEZONE
TZID:Europe/Berlin
BEGIN:STANDARD
TZNAME:CET
DTSTART:20251026T030000
TZOFFSETFROM:+0200
TZOFFSETTO:+0100
RDATE:20261025T030000
END:STANDARD
BEGIN:DAYLIGHT
TZNAME:CEST
DTSTART:20250330T020000
TZOFFSETFROM:+0100
TZOFFSETTO:+0200
RDATE:20260329T020000
RDATE:20270328T020000
END:DAYLIGHT
END:VTIMEZONE
BEGIN:VEVENT
UID:c49e2862-2880-4cdb-a1dc-c4f72750667a
DTSTAMP:20260419T145436Z
CATEGORIES:Webinar
CLASS:PUBLIC
DESCRIPTION;ALTREP="CID:<FFFF__=0ABBE548DFE235B58f9e8a93d@coffeebean.com>":
 Mergers\, acquisitions\, and divestitures are high-stakes inflection point
 s for financial institutions – and for their data. Sensitive information i
 s often duplicated\, exposed\, or fragmented across legacy and cloud syste
 ms\, increasing the risk of compliance violations\, insider threats\, and 
 AI bias.\nIn this webinar\, data and security leaders from&nbsp\;Fiserv\,&
 nbsp\;Snowflake\, and&nbsp\;BigID&nbsp\;unpack the real-world data governa
 nce challenges of M&amp\;A and share how a unified approach to discovery\,
  classification\, and access control can dramatically reduce risk. You’ll 
 learn how leading organizations are using modern data platforms and automa
 ted intelligence to strengthen governance\, streamline audits\, and protec
 t sensitive data – even amid structural change.\nJoin us to explore:\n\nTh
 e top data exposure and compliance risks that emerge during M&amp\;A\, div
 estiture\, and integration\nHow to discover\, classify\, and separate sens
 itive data across entities — without slowing the deal\nThe role of dynamic
  data masking\, lineage\, and policy automation in maintaining control\nHo
 w joint Snowflake + BigID capabilities help unify visibility\, automate co
 mpliance\, and reduce insider threat risk\nWhy data governance is foundati
 onal to secure\, scalable AI enablement post-merger\n\nWhether you’re cons
 olidating businesses\, spinning off divisions\, or integrating acquisition
 s\, this session will show you how to maintain trust\, compliance\, and co
 ntrol over your most sensitive digital assets.\nSpeakers:\n\nConstantin St
 anca\, Field CTO for the FSI industry\, Snowflake\nKen Owens\, VP Cloud Se
 curity\, Fiserv\nJeff Weber\, Director\, Solutions Engineering\, BigID\n\n
 \n\n&nbsp\;Register here\n\n\n&nbsp\;
DTSTART:20251211T160000Z
DTEND:20251211T170000Z
GEO:00;0
LOCATION:
ORGANIZER:
SEQUENCE:1
SUMMARY:BigID| Sensitive Data at Risk: Managing Exposure & Governance Durin
 g M&A
TRANSP:OPAQUE
URL:https://ectacom.com/de/webinare/493-bigid-sensitive-data-at-risk-managi
 ng-exposure-governance-during-m-a.html
END:VEVENT
END:VCALENDAR
