BEGIN:VCALENDAR
VERSION:2.0
PRODID:-//ectacom.com//NONSGML kigkonsult.se iCalcreator 2.30.10//
CALSCALE:GREGORIAN
METHOD:PUBLISH
UID:ce3d842d-ff3f-4d98-a9a4-65f056cbe1e3
X-WR-CALNAME:iCagenda
X-WR-CALDESC:Event Management Extension for Joomla!
X-WR-RELCALID:3E26604A-50F4-4449-8B3E-E4F4932D05B5
X-WR-TIMEZONE:Europe/Berlin
BEGIN:VTIMEZONE
TZID:Europe/Berlin
BEGIN:STANDARD
TZNAME:CET
DTSTART:20251026T030000
TZOFFSETFROM:+0200
TZOFFSETTO:+0100
RDATE:20261025T030000
END:STANDARD
BEGIN:DAYLIGHT
TZNAME:CEST
DTSTART:20250330T020000
TZOFFSETFROM:+0100
TZOFFSETTO:+0200
RDATE:20260329T020000
RDATE:20270328T020000
END:DAYLIGHT
END:VTIMEZONE
BEGIN:VEVENT
UID:1a4513d1-6f52-4149-93a7-0a8db1984445
DTSTAMP:20260419T145804Z
CATEGORIES:Webinar
CLASS:PUBLIC
DESCRIPTION;ALTREP="CID:<FFFF__=0ABBE548DFE235B58f9e8a93d@coffeebean.com>":
 The NIS2 Directive sets a new bar for cybersecurity and risk management ac
 ross critical sectors in the EU. With these new obligations\, what does it
  mean for executive leadership\, CISOs\, and compliance officers?\nJoin No
 zomi Networks and EY in this exclusive webinar where we'll break down what
  it means for your organization's day–to–day operations. You'll: &nbsp\;\n
 \nUnderstand NIS2’s key requirements\, timelines and upcoming urgent prior
 ities\n\n\nLearn practical steps to assess and improve cyber resilience\n
 \n\nSee how real-time asset intelligence and threat detection enable compl
 iance\n\n\nGet guidance to kickstart your journey with quick wins and a lo
 nger term NIS2 compliance roadmap &nbsp\;\n\nDon't miss your opportunity t
 o reduce risk\, accelerate compliance\, and strengthen resilience — regist
 er today.\n\n\n&nbsp\;Register here\n\n\n&nbsp\;
DTSTART:20251125T120000Z
DTEND:20251125T130000Z
GEO:00;0
LOCATION:
ORGANIZER:
SEQUENCE:1
SUMMARY:NozomiNetworks | Building Cyber-Resilient OT Systems — NIS2 in Prac
 tice
TRANSP:OPAQUE
URL:https://ectacom.com/de/webinare/495-nozominetworks-building-cyber-resil
 ient-ot-systems-nis2-in-practice.html
END:VEVENT
END:VCALENDAR
