BEGIN:VCALENDAR
VERSION:2.0
PRODID:-//ectacom.com//NONSGML kigkonsult.se iCalcreator 2.30.10//
CALSCALE:GREGORIAN
METHOD:PUBLISH
UID:b366e55b-de82-4565-a6be-bc9c03b14680
X-WR-CALNAME:iCagenda
X-WR-CALDESC:Event Management Extension for Joomla!
X-WR-RELCALID:3E26604A-50F4-4449-8B3E-E4F4932D05B5
X-WR-TIMEZONE:Europe/Berlin
BEGIN:VTIMEZONE
TZID:Europe/Berlin
BEGIN:STANDARD
TZNAME:CET
DTSTART:20251026T030000
TZOFFSETFROM:+0200
TZOFFSETTO:+0100
RDATE:20261025T030000
END:STANDARD
BEGIN:DAYLIGHT
TZNAME:CEST
DTSTART:20250330T020000
TZOFFSETFROM:+0100
TZOFFSETTO:+0200
RDATE:20260329T020000
RDATE:20270328T020000
END:DAYLIGHT
END:VTIMEZONE
BEGIN:VEVENT
UID:08c35d64-afe7-4c87-a543-a18a5a5ca3c0
DTSTAMP:20260419T145436Z
CATEGORIES:Webinar
CLASS:PUBLIC
DESCRIPTION;ALTREP="CID:<FFFF__=0ABBE548DFE235B58f9e8a93d@coffeebean.com>":
 Are you trapped in the Visibility Paradox? Too many tools\, endless silos\
 , and still unable to answer the board's two critical questions: 'What ass
 ets do we actually have?' and 'Are they secure?'\nLacking confidence means
  wasted budget\, audit failures\, and unacceptable risk exposure heading i
 nto the new year.\nIn this direct\, practitioner-led webinar\, we give you
  the practical guidance and tools needed to move past data noise and secur
 e the budget you need.\nWhat You Will Gain\nWe share how security teams ca
 n strategically plan spending\, showcase value\, and get buy-in from leade
 rship using business-focused metrics.\n\n\nGrade Your Confidence: Benchmar
 k your asset visibility against peers and pinpoint your true blind spots.
 \n\n\nStop Guessing\, Start Acting: Learn the three immediate actions requ
 ired to convert siloed asset data into an actionable\, priority-driven sec
 urity strategy.\n\n\nJustify Your Budget: Walk away with clear guidance on
  how to quantify risk and secure the prioritization needed to make Asset I
 ntelligence one of your company’s New Year’s Resolutions!\n\n\nValue Talk 
 Track: Get a plan and talk track for measuring cybersecurity metrics that 
 matter to leadership and other business units.\n\n\nEnd 2025 strong. Start
  taking confident\, defensible action.\n\n\n&nbsp\;Register here\n\n\n&nbs
 p\;
DTSTART:20251209T170000Z
DTEND:20251209T180000Z
GEO:00;0
LOCATION:online
ORGANIZER:
SEQUENCE:1
SUMMARY:Axonius | Benchmarking for Buy-In
TRANSP:OPAQUE
URL:https://ectacom.com/de/webinare/496-axonius-benchmarking-for-buy-in.htm
 l
END:VEVENT
END:VCALENDAR
